{"text_format":"1","workbook":"xlsx","n_sheets":2,"sheets":["入力フォーム ","納入書"],"not_rendered":{"charts":0,"images":0,"macros":1,"external_links":0,"defined_names":1,"comments":1,"pivot_tables":0},"unopened":[],"bounds":{"document_bytes":16777216,"sheet_cells":100000,"rows_first":2000,"rows_last":500,"rows_between":2000,"halvings":0,"cell_chars":16384,"cell_head_chars":4096},"cells_cut":0,"cells_raw":0,"read":"whole","date_system":"1900"}

{"sheet":"入力フォーム ","index":0,"n_rows":55,"n_cols":21,"rows_kept":55,"cut":false,"hidden":false,"merged":[[50,2,50,7],[52,2,52,6],[53,1,54,1],[53,3,53,6],[54,3,54,6],[49,2,49,7],[36,2,36,7],[38,2,38,6],[39,1,40,1],[39,3,39,6],[40,3,40,6],[42,2,42,7],[43,2,43,7],[45,2,45,6],[46,1,47,1],[46,3,46,6],[47,3,47,6],[35,2,35,7],[22,2,22,7],[24,2,24,6],[25,1,26,1],[25,3,25,6],[26,3,26,6],[28,2,28,7],[29,2,29,7],[31,2,31,6],[32,1,33,1],[32,3,32,6],[33,3,33,6],[21,2,21,7],[6,2,6,6],[7,2,7,6],[8,2,8,6],[9,2,9,6],[10,2,10,7],[13,1,13,4],[14,1,14,7],[17,2,17,6],[18,1,19,1],[18,3,18,6],[19,3,19,6],[5,2,5,7],[0,1,0,7],[1,1,2,1],[1,3,1,7],[2,2,2,7],[3,2,3,7]]}
["A","入力フォーム（黄色の部分に入力してください）",null,null,null,null,null,null,null,null,null,null,"億","千","百","十","万","千","百","十","一"]
[null,"住所又は所在地","郵便番号"]
[]
[null,"特別徴収義務者名\n（会社名）",null,null,null,null,null,null,null,null,null,"給与",{"$f":"IF(LEN(C7)<9,\"\",LEFT(RIGHT(C7,9))*1)","v":""},{"$f":"IF(LEN(C7)<8,\"\",LEFT(RIGHT(C7,8))*1)","v":""},{"$f":"IF(LEN(C7)<7,\"\",LEFT(RIGHT(C7,7))*1)","v":""},{"$f":"IF(LEN(C7)<6,\"\",LEFT(RIGHT(C7,6))*1)","v":""},{"$f":"IF(LEN(C7)<5,\"\",LEFT(RIGHT(C7,5))*1)","v":""},{"$f":"IF(LEN(C7)<4,\"\",LEFT(RIGHT($C7,4))*1)","v":""},{"$f":"IF(LEN(C7)<3,\"\",LEFT(RIGHT(C7,3))*1)","v":""},{"$f":"IF(LEN(C7)<2,\"\",LEFT(RIGHT(C7,2))*1)","v":""},{"$f":"IF(LEN(C7)<1,\"\",LEFT(RIGHT(C7,1))*1)","v":""}]
[null,"納付年月",null,"年",null,"月分",null,null,null,null,null,"退職",{"$f":"IF(LEN(C8)<9,\"\",LEFT(RIGHT(C8,9))*1)","v":""},{"$f":"IF(LEN(C8)<8,\"\",LEFT(RIGHT(C8,8))*1)","v":""},{"$f":"IF(LEN(C8)<7,\"\",LEFT(RIGHT(C8,7))*1)","v":""},{"$f":"IF(LEN(C8)<6,\"\",LEFT(RIGHT(C8,6))*1)","v":""},{"$f":"IF(LEN(C8)<5,\"\",LEFT(RIGHT(C8,5))*1)","v":""},{"$f":"IF(LEN(C8)<4,\"\",LEFT(RIGHT($C8,4))*1)","v":""},{"$f":"IF(LEN(C8)<3,\"\",LEFT(RIGHT(C8,3))*1)","v":""},{"$f":"IF(LEN(C8)<2,\"\",LEFT(RIGHT(C8,2))*1)","v":""},{"$f":"IF(LEN(C8)<1,\"\",LEFT(RIGHT(C8,1))*1)","v":""}]
[null,"指定番号",null,null,null,null,null,null,null,null,null,"延滞",{"$f":"IF(LEN(C9)<9,\"\",LEFT(RIGHT(C9,9))*1)","v":""},{"$f":"IF(LEN(C9)<8,\"\",LEFT(RIGHT(C9,8))*1)","v":""},{"$f":"IF(LEN(C9)<7,\"\",LEFT(RIGHT(C9,7))*1)","v":""},{"$f":"IF(LEN(C9)<6,\"\",LEFT(RIGHT(C9,6))*1)","v":""},{"$f":"IF(LEN(C9)<5,\"\",LEFT(RIGHT(C9,5))*1)","v":""},{"$f":"IF(LEN(C9)<4,\"\",LEFT(RIGHT($C9,4))*1)","v":""},{"$f":"IF(LEN(C9)<3,\"\",LEFT(RIGHT(C9,3))*1)","v":""},{"$f":"IF(LEN(C9)<2,\"\",LEFT(RIGHT(C9,2))*1)","v":""},{"$f":"IF(LEN(C9)<1,\"\",LEFT(RIGHT(C9,1))*1)","v":""}]
[null,"給与分（一括徴収分を含む）",null,null,null,null,null,"円",null,null,null,"督促",{"$f":"IF(LEN(C10)<9,\"\",LEFT(RIGHT(C10,9))*1)","v":""},{"$f":"IF(LEN(C10)<8,\"\",LEFT(RIGHT(C10,8))*1)","v":""},{"$f":"IF(LEN(C10)<7,\"\",LEFT(RIGHT(C10,7))*1)","v":""},{"$f":"IF(LEN(C10)<6,\"\",LEFT(RIGHT(C10,6))*1)","v":""},{"$f":"IF(LEN(C10)<5,\"\",LEFT(RIGHT(C10,5))*1)","v":""},{"$f":"IF(LEN(C10)<4,\"\",LEFT(RIGHT($C10,4))*1)","v":""},{"$f":"IF(LEN(C10)<3,\"\",LEFT(RIGHT(C10,3))*1)","v":""},{"$f":"IF(LEN(C10)<2,\"\",LEFT(RIGHT(C10,2))*1)","v":""},{"$f":"IF(LEN(C10)<1,\"\",LEFT(RIGHT(C10,1))*1)","v":""}]
[null,"退職所得分",null,null,null,null,null,"円",null,null,null,"合計",{"$f":"IF(LEN(C11)<9,\"\",LEFT(RIGHT(C11,9))*1)","v":""},{"$f":"IF(LEN(C11)<8,\"\",LEFT(RIGHT(C11,8))*1)","v":""},{"$f":"IF(LEN(C11)<7,\"\",LEFT(RIGHT(C11,7))*1)","v":""},{"$f":"IF(LEN(C11)<6,\"\",LEFT(RIGHT(C11,6))*1)","v":""},{"$f":"IF(LEN(C11)<5,\"\",LEFT(RIGHT(C11,5))*1)","v":""},{"$f":"IF(LEN(C11)<4,\"\",LEFT(RIGHT($C11,4))*1)","v":""},{"$f":"IF(LEN(C11)<3,\"\",LEFT(RIGHT(C11,3))*1)","v":""},{"$f":"IF(LEN(C11)<2,\"\",LEFT(RIGHT(C11,2))*1)","v":""},{"$f":"IF(LEN(C11)<1,\"\",LEFT(RIGHT(C11,1))*1)","v":""}]
[null,"延滞金",null,null,null,null,null,"円"]
[null,null,null,null,null,null,null,"円"]
[null,"合計",{"$f":"IF(SUM(C7:C10)=0,\"\",SUM(C7:C10))","v":""}]
[null,"納期限",null,"年",null,"月",null,"日"]
[]
["B","※以下は退職所得に係る市民税・県民税がある場合にのみ入力します"]
[null,"退職所得に係る市民税・県民税納入書　入力フォーム"]
[null,"納付年月日",null,"年",null,"月",null,"日"]
[null,"人員",null,"人"]
[null,"退職手当等の支払金額",null,null,null,null,null,"円"]
[null,"特別徴収税額","市民税",null,null,null,null,"円"]
[null,null,"県民税",null,null,null,null,"円"]
[null,"個人情報１"]
[null,"１月１日の住所"]
[null,"氏名"]
[null,"勤続年数（端数は切り上げ）",null,"年"]
[null,"退職金額",null,null,null,null,null,"円"]
[null,"特別徴収税額","市民税",null,null,null,null,"円"]
[null,null,"県民税",null,null,null,null,"円"]
[null,"個人情報２"]
[null,"１月１日の住所"]
[null,"氏名"]
[null,"勤続年数（端数は切り上げ）",null,"年"]
[null,"退職金額",null,null,null,null,null,"円"]
[null,"特別徴収税額","市民税",null,null,null,null,"円"]
[null,null,"県民税",null,null,null,null,"円"]
[null,"個人情報３"]
[null,"１月１日の住所"]
[null,"氏名"]
[null,"勤続年数（端数は切り上げ）",null,"年"]
[null,"退職金額",null,null,null,null,null,"円"]
[null,"特別徴収税額","市民税",null,null,null,null,"円"]
[null,null,"県民税",null,null,null,null,"円"]
[null,"個人情報4"]
[null,"１月１日の住所"]
[null,"氏名"]
[null,"勤続年数（端数は切り上げ）",null,"年"]
[null,"退職金額",null,null,null,null,null,"円"]
[null,"特別徴収税額","市民税",null,null,null,null,"円"]
[null,null,"県民税",null,null,null,null,"円"]
[null,"個人情報5"]
[null,"１月１日の住所"]
[null,"氏名"]
[null,"勤続年数（端数は切り上げ）",null,"年"]
[null,"退職金額",null,null,null,null,null,"円"]
[null,"特別徴収税額","市民税",null,null,null,null,"円"]
[null,null,"県民税",null,null,null,null,"円"]

{"sheet":"納入書","index":1,"n_rows":91,"n_cols":95,"rows_kept":91,"cut":false,"hidden":false,"merged":[[3,17,3,31],[3,49,3,63],[3,81,3,95],[0,3,0,5],[55,3,55,5],[56,3,56,5],[49,82,49,95],[49,18,49,31],[49,50,49,63],[44,68,45,81],[46,68,46,81],[47,36,48,49],[38,5,38,9],[38,11,39,29],[38,37,38,41],[38,43,39,61],[38,69,38,73],[38,75,39,93],[39,5,39,9],[39,37,39,41],[39,69,39,73],[35,5,35,9],[35,11,37,30],[35,37,35,41],[90,18,90,25],[90,26,90,28],[90,29,90,34],[90,36,90,38],[90,39,90,44],[88,18,88,25],[88,26,88,45],[89,18,89,25],[89,26,89,29],[89,31,89,35],[89,36,89,44],[86,18,86,25],[86,26,86,28],[86,29,86,34],[86,36,86,38],[86,39,86,44],[87,18,87,25],[87,26,87,45],[84,18,84,25],[84,26,84,45],[85,18,85,25],[85,26,85,29],[85,31,85,35],[85,36,85,44],[82,18,82,25],[82,26,82,28],[82,29,82,34],[82,36,82,38],[82,39,82,44],[83,18,83,25],[83,26,83,45],[73,31,73,35],[73,36,73,44],[80,18,80,25],[80,26,80,45],[81,18,81,25],[81,26,81,29],[81,31,81,35],[81,36,81,44],[78,18,78,25],[78,26,78,28],[78,29,78,34],[78,36,78,38],[78,39,78,44],[79,18,79,25],[79,26,79,45],[76,18,76,25],[76,26,76,45],[77,18,77,25],[77,26,77,29],[77,31,77,35],[65,18,65,28],[65,29,65,44],[66,18,67,23],[66,24,67,28],[66,29,67,44],[77,36,77,44],[74,18,74,25],[74,26,74,28],[74,29,74,34],[74,36,74,38],[74,39,74,44],[75,18,75,25],[75,26,75,45],[68,18,69,23],[68,24,69,28],[68,29,69,44],[70,18,70,23],[71,18,71,25],[71,26,71,45],[68,45,69,45],[72,18,72,25],[72,26,72,45],[73,18,73,25],[73,26,73,29],[47,69,47,79],[48,68,48,71],[43,68,43,81],[42,68,42,81],[41,68,41,81],[56,0,83,2],[56,18,56,45],[57,18,58,35],[57,36,57,45],[58,36,59,45],[59,26,59,27],[59,29,59,30],[59,31,59,32],[62,19,62,44],[63,18,64,20],[63,21,64,23],[63,24,64,25],[63,26,64,28],[63,29,64,31],[63,33,64,35],[59,23,59,24],[59,33,59,35],[59,18,59,22],[63,36,64,43],[61,18,61,21],[51,59,52,96],[66,45,67,45],[40,5,40,9],[41,18,48,20],[41,21,48,31],[41,36,42,49],[41,50,48,52],[41,53,48,63],[45,40,46,47],[45,48,46,49],[60,18,60,21],[60,22,60,45],[61,22,61,45],[41,82,48,84],[41,85,48,95],[43,4,44,17],[43,36,43,38],[43,40,44,47],[43,48,44,49],[44,36,45,39],[35,43,37,62],[35,69,35,73],[35,75,37,94],[30,68,31,77],[30,79,31,82],[28,94,29,95],[28,82,29,83],[28,84,29,85],[33,5,33,13],[33,37,33,45],[33,69,33,77],[34,5,34,9],[34,37,34,41],[34,69,34,73],[28,88,29,89],[28,90,29,91],[28,92,29,93],[30,83,31,84],[30,85,31,86],[30,87,31,88],[30,89,31,90],[30,91,31,92],[30,93,31,94],[34,11,34,19],[34,43,34,51],[34,75,34,83],[28,26,29,27],[27,48,27,49],[27,50,27,51],[27,52,27,53],[30,4,31,13],[30,15,31,18],[30,19,31,20],[30,21,31,22],[30,23,31,24],[30,25,31,26],[28,62,29,63],[30,27,31,28],[30,29,31,30],[30,36,31,45],[30,47,31,50],[30,51,31,52],[30,53,31,54],[30,55,31,56],[30,57,31,58],[15,4,29,5],[15,6,16,13],[15,14,15,15],[27,26,27,27],[27,28,27,29],[27,30,27,31],[27,38,29,45],[27,46,27,47],[25,48,26,49],[25,50,26,51],[28,30,29,31],[28,46,29,47],[28,48,29,49],[28,50,29,51],[24,38,26,45],[24,46,24,47],[24,26,24,27],[24,28,24,29],[28,14,29,15],[28,16,29,17],[28,18,29,19],[28,20,29,21],[28,22,29,23],[28,24,29,25],[17,6,17,13],[25,14,26,15],[25,16,26,17],[25,18,26,19],[25,20,26,21],[18,6,20,13],[18,20,18,21],[15,16,15,17],[15,18,15,19],[15,20,15,21],[30,59,31,60],[30,61,31,62],[27,6,29,13],[27,14,27,15],[27,16,27,17],[27,18,27,19],[27,20,27,21],[27,22,27,23],[27,24,27,25],[15,36,29,37],[18,38,20,45],[18,46,18,47],[18,48,18,49],[18,58,18,59],[18,60,18,61],[18,26,18,27],[18,28,18,29],[21,30,21,31],[21,28,21,29],[18,22,18,23],[18,24,18,25],[18,30,18,31],[19,28,20,29],[24,24,24,25],[24,52,24,53],[24,54,24,55],[24,56,24,57],[24,58,24,59],[27,94,27,95],[25,22,26,23],[25,24,26,25],[25,26,26,27],[27,82,27,83],[27,84,27,85],[27,86,27,87],[27,88,27,89],[27,54,27,55],[27,56,27,57],[27,58,27,59],[27,60,27,61],[27,62,27,63],[27,70,29,77],[28,54,29,55],[28,56,29,57],[27,78,27,79],[27,80,27,81],[28,86,29,87],[28,28,29,29],[25,84,26,85],[25,86,26,87],[24,84,24,85],[24,86,24,87],[24,88,24,89],[24,90,24,91],[28,80,29,81],[25,28,26,29],[25,30,26,31],[28,58,29,59],[28,60,29,61],[25,58,26,59],[28,52,29,53],[25,52,26,53],[25,54,26,55],[25,56,26,57],[24,92,24,93],[24,94,24,95],[25,94,26,95],[24,70,26,77],[24,78,24,79],[24,80,24,81],[24,82,24,83],[25,60,26,61],[25,62,26,63],[25,78,26,79],[25,80,26,81],[25,82,26,83],[24,60,24,61],[24,62,24,63],[22,94,23,95],[24,6,26,13],[24,14,24,15],[24,16,24,17],[24,18,24,19],[24,20,24,21],[24,22,24,23],[22,60,23,61],[22,62,23,63],[22,78,23,79],[22,80,23,81],[22,82,23,83],[22,84,23,85],[22,48,23,49],[22,50,23,51],[22,52,23,53],[22,54,23,55],[22,56,23,57],[22,58,23,59],[24,48,24,49],[24,50,24,51],[25,88,26,89],[25,90,26,91],[25,92,26,93],[21,94,21,95],[22,14,23,15],[22,16,23,17],[22,18,23,19],[22,20,23,21],[22,22,23,23],[22,24,23,25],[21,70,23,77],[21,78,21,79],[21,80,21,81],[21,82,21,83],[21,84,21,85],[21,86,21,87],[22,86,23,87],[21,50,21,51],[21,52,21,53],[21,54,21,55],[21,56,21,57],[21,58,21,59],[21,60,21,61],[21,26,21,27],[22,88,23,89],[22,90,23,91],[22,92,23,93],[16,94,17,95],[16,82,17,83],[16,84,17,85],[19,92,20,93],[19,94,20,95],[21,6,23,13],[21,14,21,15],[21,16,21,17],[21,18,21,19],[21,20,21,21],[21,22,21,23],[21,24,21,25],[19,78,20,79],[19,80,20,81],[19,82,20,83],[19,84,20,85],[19,86,20,87],[19,88,20,89],[19,50,20,51],[19,52,20,53],[19,54,20,55],[19,56,20,57],[19,58,20,59],[19,60,20,61],[18,94,18,95],[19,14,20,15],[19,16,20,17],[19,18,20,19],[19,20,20,21],[19,22,20,23],[19,24,20,25],[19,26,20,27],[18,78,18,79],[18,80,18,81],[18,82,18,83],[18,84,18,85],[18,86,18,87],[18,88,18,89],[18,50,18,51],[18,52,18,53],[18,54,18,55],[18,56,18,57],[19,30,20,31],[19,46,20,47],[19,48,20,49],[18,14,18,15],[18,16,18,17],[18,18,18,19],[16,50,17,51],[16,52,17,53],[13,50,13,63],[14,50,14,63],[15,90,15,91],[15,70,16,77],[18,62,18,63],[18,70,20,77],[16,86,17,87],[16,88,17,89],[16,90,17,91],[16,54,17,55],[16,56,17,57],[16,58,17,59],[16,60,17,61],[16,62,17,63],[16,78,17,79],[19,90,20,91],[15,54,15,55],[17,70,17,77],[18,90,18,91],[15,94,15,95],[16,14,17,15],[16,16,17,17],[16,18,17,19],[16,20,17,21],[16,22,17,23],[16,24,17,25],[16,26,17,27],[15,78,15,79],[15,80,15,81],[15,82,15,83],[15,84,15,85],[15,86,15,87],[15,88,15,89],[15,56,15,57],[15,58,15,59],[15,60,15,61],[15,62,15,63],[15,22,15,23],[15,24,15,25],[15,26,15,27],[15,28,15,29],[15,30,15,31],[17,38,17,45],[22,26,23,27],[22,28,23,29],[22,30,23,31],[22,46,23,47],[21,92,21,93],[16,80,17,81],[19,62,20,63],[15,38,16,45],[15,46,15,47],[15,68,29,69],[21,62,21,63],[27,92,27,93],[25,46,26,47],[24,30,24,31],[15,92,15,93],[21,88,21,89],[21,90,21,91],[16,92,17,93],[18,92,18,93],[21,38,23,45],[21,46,21,47],[21,48,21,49],[27,90,27,91],[28,78,29,79],[1,0,50,2],[2,17,2,31],[2,49,2,63],[6,4,7,15],[6,36,7,47],[6,68,7,79],[8,74,9,75],[8,76,9,77],[8,78,9,79],[11,4,11,17],[11,18,11,31],[11,36,11,49],[11,50,11,63],[2,4,4,15],[11,68,11,81],[8,42,9,43],[8,44,9,45],[8,46,9,47],[8,4,9,5],[8,6,9,7],[8,8,9,9],[8,10,9,11],[8,12,9,13],[8,14,9,15],[13,4,14,6],[13,7,14,9],[13,10,14,11],[13,12,14,14],[13,15,14,17],[13,18,13,31],[14,18,14,31],[11,82,11,95],[12,4,12,17],[12,18,12,31],[12,36,12,49],[12,50,12,63],[12,68,12,81],[12,82,12,95],[13,74,14,75],[13,76,14,78],[13,79,14,81],[13,82,13,95],[14,82,14,95],[13,36,14,38],[13,39,14,41],[13,42,14,43],[13,44,14,46],[13,47,14,49],[5,4,5,15],[5,17,5,31],[5,36,5,47],[5,49,5,63],[5,68,5,79],[5,81,5,95],[8,36,9,37],[8,38,9,39],[8,40,9,41],[6,17,9,31],[9,49,9,58],[2,36,4,47],[2,68,4,79],[4,17,4,31],[4,49,4,63],[4,81,4,95],[48,73,48,79],[49,73,49,79],[2,81,2,95],[8,68,9,69],[8,70,9,71],[8,72,9,73],[6,81,9,95],[6,49,6,63],[7,49,8,59],[7,60,8,63],[13,68,14,70],[13,71,14,73],[15,48,15,49],[15,50,15,51],[15,52,15,53],[16,46,17,47],[16,48,17,49],[16,28,17,29],[16,30,17,31]]}
[null,null,null,"A"]
[]
[null,null,null,null,"千　葉　県",null,null,null,null,null,null,null,null,null,null,null,null,"個　人　市　民　税",null,null,null,null,null,null,null,null,null,null,null,null,null,null,null,null,null,null,"千　葉　県",null,null,null,null,null,null,null,null,null,null,null,null,"個　人　市　民　税",null,null,null,null,null,null,null,null,null,null,null,null,null,null,null,null,null,null,"千　葉　県",null,null,null,null,null,null,null,null,null,null,null,null,"個　人　市　民　税"]
[null,null,null,null,null,null,null,null,null,null,null,null,null,null,null,null,null,"個　人　県　民　税",null,null,null,null,null,null,null,null,null,null,null,null,null,null,null,null,null,null,null,null,null,null,null,null,null,null,null,null,null,null,null,"個　人　県　民　税",null,null,null,null,null,null,null,null,null,null,null,null,null,null,null,null,null,null,null,null,null,null,null,null,null,null,null,null,null,null,null,"個　人　県　民　税"]
[null,null,null,null,null,null,null,null,null,null,null,null,null,null,null,null,null,"森　林　環　境　税",null,null,null,null,null,null,null,null,null,null,null,null,null,null,null,null,null,null,null,null,null,null,null,null,null,null,null,null,null,null,null,"森　林　環　境　税",null,null,null,null,null,null,null,null,null,null,null,null,null,null,null,null,null,null,null,null,null,null,null,null,null,null,null,null,null,null,null,"森　林　環　境　税"]
[null,null,null,null,"成　田　市",null,null,null,null,null,null,null,null,null,null,null,null,"領 収 証 書",null,null,null,null,null,null,null,null,null,null,null,null,null,null,null,null,null,null,"成　田　市",null,null,null,null,null,null,null,null,null,null,null,null,"納　　入　　書",null,null,null,null,null,null,null,null,null,null,null,null,null,null,null,null,null,null,"成　田　市",null,null,null,null,null,null,null,null,null,null,null,null,"　　納入済通知書"]
[null,null,null,null,"市区町村コード",null,null,null,null,null,null,null,null,null,null,null,null,null,null,null,null,null,null,null,null,null,null,null,null,null,null,null,null,null,null,null,"市区町村コード",null,null,null,null,null,null,null,null,null,null,null,null,"振替の請求に使用する欄",null,null,null,null,null,null,null,null,null,null,null,null,null,null,null,null,null,null,"市区町村コード",null,null,null,null,null,null,null,null,null,null,null,null,"　　　"]
[null,null,null,null,null,null,null,null,null,null,null,null,null,null,null,null,null,null,null,null,null,null,null,null,null,null,null,null,null,null,null,null,null,null,null,null,null,null,null,null,null,null,null,null,null,null,null,null,null,"払出口座番号",null,null,null,null,null,null,null,null,null,null,"払出請求人印"]
[null,null,null,null,1,null,2,null,2,null,1,null,1,null,4,null,null,null,null,null,null,null,null,null,null,null,null,null,null,null,null,null,null,null,null,null,1,null,2,null,2,null,1,null,1,null,4,null,null,null,null,null,null,null,null,null,null,null,null,null,null,null,null,null,null,null,null,null,1,null,2,null,2,null,1,null,1,null,4]
[null,null,null,null,null,null,null,null,null,null,null,null,null,null,null,null,null,null,null,null,null,null,null,null,null,null,null,null,null,null,null,null,null,null,null,null,null,null,null,null,null,null,null,null,null,null,null,null,null,null,null,null,null,null,null,null,null,null,null,"番"]
[]
[null,null,null,null,"口　座　番　号",null,null,null,null,null,null,null,null,null,null,null,null,null,"加　入　者　名",null,null,null,null,null,null,null,null,null,null,null,null,null,null,null,null,null,"口　座　番　号",null,null,null,null,null,null,null,null,null,null,null,null,null,"加　入　者　名",null,null,null,null,null,null,null,null,null,null,null,null,null,null,null,null,null,"口　座　番　号",null,null,null,null,null,null,null,null,null,null,null,null,null,"加　入　者　名"]
[null,null,null,null,"00130 - 3 - 960173",null,null,null,null,null,null,null,null,null,null,null,null,null,"千葉県成田市会計管理者",null,null,null,null,null,null,null,null,null,null,null,null,null,null,null,null,null,"00130 - 3 - 960173",null,null,null,null,null,null,null,null,null,null,null,null,null,"千葉県成田市会計管理者",null,null,null,null,null,null,null,null,null,null,null,null,null,null,null,null,null,"00130 - 3 - 960173",null,null,null,null,null,null,null,null,null,null,null,null,null,"千葉県成田市会計管理者"]
[null,null,null,null,null,null,null,{"$f":"IF('入力フォーム '!C5=\"\",\"\",'入力フォーム '!C5)","v":""},null,null,"年",null,{"$f":"IF('入力フォーム '!E5=\"\",\"\",'入力フォーム '!E5)","v":""},null,null,"月分",null,null,"指　定　番　号",null,null,null,null,null,null,null,null,null,null,null,null,null,null,null,null,null,null,null,null,{"$f":"IF(H14=\"\",\"\",H14)","v":""},null,null,"年",null,{"$f":"IF(M14=\"\",\"\",M14)","v":""},null,null,"月分",null,null,"指　定　番　号",null,null,null,null,null,null,null,null,null,null,null,null,null,null,null,null,null,null,null,null,{"$f":"IF(AN14=\"\",\"\",AN14)","v":""},null,null,"年",null,{"$f":"IF(AS14=\"\",\"\",AS14)","v":""},null,null,"月分",null,null,"指　定　番　号"]
[null,null,null,null,null,null,null,null,null,null,null,null,null,null,null,null,null,null,{"$f":"IF('入力フォーム '!C6=\"\",\"\",'入力フォーム '!C6)","v":""},null,null,null,null,null,null,null,null,null,null,null,null,null,null,null,null,null,null,null,null,null,null,null,null,null,null,null,null,null,null,null,{"$f":"IF(S15=\"\",\"\",S15)","v":""},null,null,null,null,null,null,null,null,null,null,null,null,null,null,null,null,null,null,null,null,null,null,null,null,null,null,null,null,null,null,null,{"$f":"IF(AY15=\"\",\"\",AY15)","v":""}]
[null,null,null,null,"納　入　金　額",null,"給　与　分",null,null,null,null,null,null,null,"億",null,"千",null,"百",null,"十",null,"万",null,"千",null,"百",null,"十",null,"円",null,null,null,null,null,"納　入　金　額",null,"給　与　分",null,null,null,null,null,null,null,"億",null,"千",null,"百",null,"十",null,"万",null,"千",null,"百",null,"十",null,"円",null,null,null,null,null,"納　入　金　額",null,"給　与　分",null,null,null,null,null,null,null,"億",null,"千",null,"百",null,"十",null,"万",null,"千",null,"百",null,"十",null,"円"]
[null,null,null,null,null,null,null,null,null,null,null,null,null,null,{"$f":"'入力フォーム '!M4","v":""},null,{"$f":"'入力フォーム '!N4","v":""},null,{"$f":"'入力フォーム '!O4","v":""},null,{"$f":"'入力フォーム '!P4","v":""},null,{"$f":"'入力フォーム '!Q4","v":""},null,{"$f":"'入力フォーム '!R4","v":""},null,{"$f":"'入力フォーム '!S4","v":""},null,{"$f":"'入力フォーム '!T4","v":""},null,{"$f":"'入力フォーム '!U4","v":""},null,null,null,null,null,null,null,null,null,null,null,null,null,null,null,{"$f":"IF(O17=\"\",\"\",O17)","v":""},null,{"$f":"IF(Q17=\"\",\"\",Q17)","v":""},null,{"$f":"IF(S17=\"\",\"\",S17)","v":""},null,{"$f":"IF(U17=\"\",\"\",U17)","v":""},null,{"$f":"IF(W17=\"\",\"\",W17)","v":""},null,{"$f":"IF(Y17=\"\",\"\",Y17)","v":""},null,{"$f":"IF(AA17=\"\",\"\",AA17)","v":""},null,{"$f":"IF(AC17=\"\",\"\",AC17)","v":""},null,{"$f":"IF(AE17=\"\",\"\",AE17)","v":""},null,null,null,null,null,null,null,null,null,null,null,null,null,null,null,{"$f":"IF(AU17=\"\",\"\",AU17)","v":""},null,{"$f":"IF(AW17=\"\",\"\",AW17)","v":""},null,{"$f":"IF(AY17=\"\",\"\",AY17)","v":""},null,{"$f":"IF(BA17=\"\",\"\",BA17)","v":""},null,{"$f":"IF(BC17=\"\",\"\",BC17)","v":""},null,{"$f":"IF(BE17=\"\",\"\",BE17)","v":""},null,{"$f":"IF(BG17=\"\",\"\",BG17)","v":""},null,{"$f":"IF(BI17=\"\",\"\",BI17)","v":""},null,{"$f":"IF(BK17=\"\",\"\",BK17)","v":""}]
[null,null,null,null,null,null,"(一括徴収分を含む)",null,null,null,null,null,null,null,null,null,null,null,null,null,null,null,null,null,null,null,null,null,null,null,null,null,null,null,null,null,null,null,"(一括徴収分を含む)",null,null,null,null,null,null,null,null,null,null,null,null,null,null,null,null,null,null,null,null,null,null,null,null,null,null,null,null,null,null,null,"(一括徴収分を含む)"]
[null,null,null,null,null,null,"退職所得分",null,null,null,null,null,null,null,null,null,null,null,null,null,null,null,null,null,null,null,null,null,null,null,null,null,null,null,null,null,null,null,"退職所得分",null,null,null,null,null,null,null,null,null,null,null,null,null,null,null,null,null,null,null,null,null,null,null,null,null,null,null,null,null,null,null,"退職所得分"]
[null,null,null,null,null,null,null,null,null,null,null,null,null,null,{"$f":"'入力フォーム '!M5","v":""},null,{"$f":"'入力フォーム '!N5","v":""},null,{"$f":"'入力フォーム '!O5","v":""},null,{"$f":"'入力フォーム '!P5","v":""},null,{"$f":"'入力フォーム '!Q5","v":""},null,{"$f":"'入力フォーム '!R5","v":""},null,{"$f":"'入力フォーム '!S5","v":""},null,{"$f":"'入力フォーム '!T5","v":""},null,{"$f":"'入力フォーム '!U5","v":""},null,null,null,null,null,null,null,null,null,null,null,null,null,null,null,{"$f":"IF(O20=\"\",\"\",O20)","v":""},null,{"$f":"IF(Q20=\"\",\"\",Q20)","v":""},null,{"$f":"IF(S20=\"\",\"\",S20)","v":""},null,{"$f":"IF(U20=\"\",\"\",U20)","v":""},null,{"$f":"IF(W20=\"\",\"\",W20)","v":""},null,{"$f":"IF(Y20=\"\",\"\",Y20)","v":""},null,{"$f":"IF(AA20=\"\",\"\",AA20)","v":""},null,{"$f":"IF(AC20=\"\",\"\",AC20)","v":""},null,{"$f":"IF(AE20=\"\",\"\",AE20)","v":""},null,null,null,null,null,null,null,null,null,null,null,null,null,null,null,{"$f":"IF(AU20=\"\",\"\",AU20)","v":""},null,{"$f":"IF(AW20=\"\",\"\",AW20)","v":""},null,{"$f":"IF(AY20=\"\",\"\",AY20)","v":""},null,{"$f":"IF(BA20=\"\",\"\",BA20)","v":""},null,{"$f":"IF(BC20=\"\",\"\",BC20)","v":""},null,{"$f":"IF(BE20=\"\",\"\",BE20)","v":""},null,{"$f":"IF(BG20=\"\",\"\",BG20)","v":""},null,{"$f":"IF(BI20=\"\",\"\",BI20)","v":""},null,{"$f":"IF(BK20=\"\",\"\",BK20)","v":""}]
[]
[null,null,null,null,null,null,"延　滞　金",null,null,null,null,null,null,null,null,null,null,null,null,null,null,null,null,null,null,null,null,null,null,null,null,null,null,null,null,null,null,null,"延　滞　金",null,null,null,null,null,null,null,null,null,null,null,null,null,null,null,null,null,null,null,null,null,null,null,null,null,null,null,null,null,null,null,"延　滞　金"]
[null,null,null,null,null,null,null,null,null,null,null,null,null,null,{"$f":"'入力フォーム '!M6","v":""},null,{"$f":"'入力フォーム '!N6","v":""},null,{"$f":"'入力フォーム '!O6","v":""},null,{"$f":"'入力フォーム '!P6","v":""},null,{"$f":"'入力フォーム '!Q6","v":""},null,{"$f":"'入力フォーム '!R6","v":""},null,{"$f":"'入力フォーム '!S6","v":""},null,{"$f":"'入力フォーム '!T6","v":""},null,{"$f":"'入力フォーム '!U6","v":""},null,null,null,null,null,null,null,null,null,null,null,null,null,null,null,{"$f":"IF(O23=\"\",\"\",O23)","v":""},null,{"$f":"IF(Q23=\"\",\"\",Q23)","v":""},null,{"$f":"IF(S23=\"\",\"\",S23)","v":""},null,{"$f":"IF(U23=\"\",\"\",U23)","v":""},null,{"$f":"IF(W23=\"\",\"\",W23)","v":""},null,{"$f":"IF(Y23=\"\",\"\",Y23)","v":""},null,{"$f":"IF(AA23=\"\",\"\",AA23)","v":""},null,{"$f":"IF(AC23=\"\",\"\",AC23)","v":""},null,{"$f":"IF(AE23=\"\",\"\",AE23)","v":""},null,null,null,null,null,null,null,null,null,null,null,null,null,null,null,{"$f":"IF(AU23=\"\",\"\",AU23)","v":""},null,{"$f":"IF(AW23=\"\",\"\",AW23)","v":""},null,{"$f":"IF(AY23=\"\",\"\",AY23)","v":""},null,{"$f":"IF(BA23=\"\",\"\",BA23)","v":""},null,{"$f":"IF(BC23=\"\",\"\",BC23)","v":""},null,{"$f":"IF(BE23=\"\",\"\",BE23)","v":""},null,{"$f":"IF(BG23=\"\",\"\",BG23)","v":""},null,{"$f":"IF(BI23=\"\",\"\",BI23)","v":""},null,{"$f":"IF(BK23=\"\",\"\",BK23)","v":""}]
[]
[]
[null,null,null,null,null,null,null,null,null,null,null,null,null,null,{"$f":"'入力フォーム '!M7","v":""},null,{"$f":"'入力フォーム '!N7","v":""},null,{"$f":"'入力フォーム '!O7","v":""},null,{"$f":"'入力フォーム '!P7","v":""},null,{"$f":"'入力フォーム '!Q7","v":""},null,{"$f":"'入力フォーム '!R7","v":""},null,{"$f":"'入力フォーム '!S7","v":""},null,{"$f":"'入力フォーム '!T7","v":""},null,{"$f":"'入力フォーム '!U7","v":""},null,null,null,null,null,null,null,null,null,null,null,null,null,null,null,{"$f":"IF(O26=\"\",\"\",O26)","v":""},null,{"$f":"IF(Q26=\"\",\"\",Q26)","v":""},null,{"$f":"IF(S26=\"\",\"\",S26)","v":""},null,{"$f":"IF(U26=\"\",\"\",U26)","v":""},null,{"$f":"IF(W26=\"\",\"\",W26)","v":""},null,{"$f":"IF(Y26=\"\",\"\",Y26)","v":""},null,{"$f":"IF(AA26=\"\",\"\",AA26)","v":""},null,{"$f":"IF(AC26=\"\",\"\",AC26)","v":""},null,{"$f":"IF(AE26=\"\",\"\",AE26)","v":""},null,null,null,null,null,null,null,null,null,null,null,null,null,null,null,{"$f":"IF(AU26=\"\",\"\",AU26)","v":""},null,{"$f":"IF(AW26=\"\",\"\",AW26)","v":""},null,{"$f":"IF(AY26=\"\",\"\",AY26)","v":""},null,{"$f":"IF(BA26=\"\",\"\",BA26)","v":""},null,{"$f":"IF(BC26=\"\",\"\",BC26)","v":""},null,{"$f":"IF(BE26=\"\",\"\",BE26)","v":""},null,{"$f":"IF(BG26=\"\",\"\",BG26)","v":""},null,{"$f":"IF(BI26=\"\",\"\",BI26)","v":""},null,{"$f":"IF(BK26=\"\",\"\",BK26)","v":""}]
[]
[null,null,null,null,null,null,"合　計　額",null,null,null,null,null,null,null,null,null,null,null,null,null,null,null,null,null,null,null,null,null,null,null,null,null,null,null,null,null,null,null,"合　計　額",null,null,null,null,null,null,null,null,null,null,null,null,null,null,null,null,null,null,null,null,null,null,null,null,null,null,null,null,null,null,null,"合　計　額"]
[null,null,null,null,null,null,null,null,null,null,null,null,null,null,{"$f":"'入力フォーム '!M8","v":""},null,{"$f":"'入力フォーム '!N8","v":""},null,{"$f":"'入力フォーム '!O8","v":""},null,{"$f":"'入力フォーム '!P8","v":""},null,{"$f":"'入力フォーム '!Q8","v":""},null,{"$f":"'入力フォーム '!R8","v":""},null,{"$f":"'入力フォーム '!S8","v":""},null,{"$f":"'入力フォーム '!T8","v":""},null,{"$f":"'入力フォーム '!U8","v":""},null,null,null,null,null,null,null,null,null,null,null,null,null,null,null,{"$f":"IF(O29=\"\",\"\",O29)","v":""},null,{"$f":"IF(Q29=\"\",\"\",Q29)","v":""},null,{"$f":"IF(S29=\"\",\"\",S29)","v":""},null,{"$f":"IF(U29=\"\",\"\",U29)","v":""},null,{"$f":"IF(W29=\"\",\"\",W29)","v":""},null,{"$f":"IF(Y29=\"\",\"\",Y29)","v":""},null,{"$f":"IF(AA29=\"\",\"\",AA29)","v":""},null,{"$f":"IF(AC29=\"\",\"\",AC29)","v":""},null,{"$f":"IF(AE29=\"\",\"\",AE29)","v":""},null,null,null,null,null,null,null,null,null,null,null,null,null,null,null,{"$f":"IF(AU29=\"\",\"\",AU29)","v":""},null,{"$f":"IF(AW29=\"\",\"\",AW29)","v":""},null,{"$f":"IF(AY29=\"\",\"\",AY29)","v":""},null,{"$f":"IF(BA29=\"\",\"\",BA29)","v":""},null,{"$f":"IF(BC29=\"\",\"\",BC29)","v":""},null,{"$f":"IF(BE29=\"\",\"\",BE29)","v":""},null,{"$f":"IF(BG29=\"\",\"\",BG29)","v":""},null,{"$f":"IF(BI29=\"\",\"\",BI29)","v":""},null,{"$f":"IF(BK29=\"\",\"\",BK29)","v":""}]
[]
[null,null,null,null,"納　期　限",null,null,null,null,null,null,null,null,null,null,null,null,null,null,{"$f":"IF('入力フォーム '!C12=\"\",\"\",'入力フォーム '!C12)","v":""},null,"年",null,{"$f":"IF('入力フォーム '!E12=\"\",\"\",'入力フォーム '!E12)","v":""},null,"月",null,{"$f":"IF('入力フォーム '!G12=\"\",\"\",'入力フォーム '!G12)","v":""},null,"日",null,null,null,null,null,null,"納　期　限",null,null,null,null,null,null,null,null,null,null,null,null,null,null,{"$f":"IF(T31=\"\",\"\",T31)","v":""},null,"年",null,{"$f":"IF(X31=\"\",\"\",X31)","v":""},null,"月",null,{"$f":"IF(AB31=\"\",\"\",AB31)","v":""},null,"日",null,null,null,null,null,null,"納　期　限",null,null,null,null,null,null,null,null,null,null,null,null,null,null,{"$f":"AZ31","v":""},null,"年",null,{"$f":"BD31","v":""},null,"月",null,{"$f":"BH31","v":""},null,"日"]
[]
[]
[null,null,null,null,null,"（特別徴収義務者）",null,null,null,null,null,null,null,null,null,null,null,null,null,null,null,null,null,null,null,null,null,null,null,null,null,null,null,null,null,null,null,"（特別徴収義務者）",null,null,null,null,null,null,null,null,null,null,null,null,null,null,null,null,null,null,null,null,null,null,null,null,null,null,null,null,null,null,null,"（特別徴収義務者）"]
[null,null,null,null,null,"住所又は",null,null,null,null,null,{"$f":"IF('入力フォーム '!$D$2=\"\",\"\",'入力フォーム '!$D$2)","v":""},null,null,null,null,null,null,null,null,null,null,null,null,null,null,null,null,null,null,null,null,null,null,null,null,null,"住所又は",null,null,null,null,null,{"$f":"IF(L35=\"\",\"\",L35)","v":""},null,null,null,null,null,null,null,null,null,null,null,null,null,null,null,null,null,null,null,null,null,null,null,null,null,"住所又は",null,null,null,null,null,{"$f":"IF(AR35=\"\",\"\",AR35)","v":""}]
[null,null,null,null,null,"所 在 地",null,null,null,null,null,{"$f":"IF('入力フォーム '!$C$3=\"\",\"\",'入力フォーム '!$C$3)","v":""},null,null,null,null,null,null,null,null,null,null,null,null,null,null,null,null,null,null,null,null,null,null,null,null,null,"所 在 地",null,null,null,null,null,{"$f":"IF(L36=\"\",\"\",L36)","v":""},null,null,null,null,null,null,null,null,null,null,null,null,null,null,null,null,null,null,null,null,null,null,null,null,null,"所 在 地",null,null,null,null,null,{"$f":"IF(AR36=\"\",\"\",AR36)","v":""}]
[]
[]
[null,null,null,null,null,"氏名又は",null,null,null,null,null,{"$f":"IF('入力フォーム '!$C$4=\"\",\"\",'入力フォーム '!$C$4)","v":""},null,null,null,null,null,null,null,null,null,null,null,null,null,null,null,null,null,null,null,null,null,null,null,null,null,"氏名又は",null,null,null,null,null,{"$f":"IF(L39=\"\",\"\",L39)","v":""},null,null,null,null,null,null,null,null,null,null,null,null,null,null,null,null,null,null,null,null,null,null,null,null,null,"氏名又は",null,null,null,null,null,{"$f":"IF(AR39=\"\",\"\",AR39)","v":""}]
[null,null,null,null,null,"名　　称",null,null,null,null,null,null,null,null,null,null,null,null,null,null,null,null,null,null,null,null,null,null,null,null,"様",null,null,null,null,null,null,"名　　称",null,null,null,null,null,null,null,null,null,null,null,null,null,null,null,null,null,null,null,null,null,null,null,null,null,null,null,null,null,null,null,"名　　称",null,null,null,null,null,null,null,null,null,null,null,null,null,null,null,null,null,null,null,null,null,null,null,null,"納"]
[]
[null,null,null,null,null,null,null,null,null,null,null,null,null,null,null,null,null,null,"領収日付印",null,null,null,null,null,null,null,null,null,null,null,null,null,null,null,null,null,"上記のとおり納入します。　",null,null,null,null,null,null,null,null,null,null,null,null,null,"領収日付印",null,null,null,null,null,null,null,null,null,null,null,null,null,null,null,null,null,"取　り　ま　と　め　局",null,null,null,null,null,null,null,null,null,null,null,null,null,"領収日付印"]
[null,null,null,null,null,null,null,null,null,null,null,null,null,null,null,null,null,null,null,null,null,null,null,null,null,null,null,null,null,null,null,null,null,null,null,null,null,null,null,null,null,null,null,null,null,null,null,null,null,null,null,null,null,null,null,null,null,null,null,null,null,null,null,null,null,null,null,null,"　〒330-9794"]
[null,null,null,null,"上記のとおり領収しました。",null,null,null,null,null,null,null,null,null,null,null,null,null,null,null,null,null,null,null,null,null,null,null,null,null,null,null,null,null,null,null,"(※)",null,null,null,null,null,null,null,null,null,null,null,"口",null,null,null,null,null,null,null,null,null,null,null,null,null,null,null,null,null,null,null,"　東京貯金事務センター"]
[null,null,null,null,null,null,null,null,null,null,null,null,null,null,null,null,null,null,null,null,null,null,null,null,null,null,null,null,null,null,null,null,null,null,null,null,"日　計",null,null,null,null,null,null,null,null,null,null,null,null,null,null,null,null,null,null,null,null,null,null,null,null,null,null,null,null,null,null,null,"上記のとおり通知します。"]
[null,null,null,null,null,null,null,null,null,null,null,null,null,null,null,null,null,null,null,null,null,null,null,null,null,null,null,null,null,null,null,null,null,null,null,null,null,null,null,null,null,null,null,null,null,null,null,null,"円"]
[]
[null,null,null,null,null,null,null,null,null,null,null,null,null,null,null,null,null,null,null,null,null,null,null,null,null,null,null,null,null,null,null,null,null,null,null,null,"※印は郵便局において使用する欄です。",null,null,null,null,null,null,null,null,null,null,null,null,null,null,null,null,null,null,null,null,null,null,null,null,null,null,null,null,null,null,null,null,"(取りまとめ店)"]
[null,null,null,null,null,null,null,null,null,null,null,null,null,null,null,null,null,null,null,null,null,null,null,null,null,null,null,null,null,null,null,null,null,null,null,null,null,null,null,null,null,null,null,null,null,null,null,null,null,null,null,null,null,null,null,null,null,null,null,null,null,null,null,null,null,null,null,null,"受付店",null,null,null,"→","千葉銀行成田支店"]
[null,null,null,null,null,null,null,null,null,null,null,null,null,null,null,null,null,null,"（納入者保管）",null,null,null,null,null,null,null,null,null,null,null,null,null,null,null,null,null,null,null,null,null,null,null,null,null,null,null,null,null,null,null,"（金融機関又は郵便局保管）",null,null,null,null,null,null,null,null,null,null,null,null,null,null,null,null,null,null,null,null,null,null,"千葉県成田市",null,null,null,null,null,null,null,null,"（市町村保管）"]
[]
[null,null,null,null,null,null,null,null,null,null,null,null,null,null,null,null,null,null,null,null,null,null,null,null,null,null,null,null,null,null,null,null,null,null,null,null,null,null,null,null,null,null,null,null,null,null,null,null,null,null,null,null,null,null,null,null,null,null,null,"点線に沿って切り取り、3枚１組でご利用ください。"]
[]
[]
[]
[]
[null,null,null,"B",null,null,null,null,null,null,null,null,null,null,null,null,null,null,"市民税・県民税納入申告書"]
[null,null,null,null,null,null,null,null,null,null,null,null,null,null,null,null,null,null,"（あて先）成　田　市　長 ",null,null,null,null,null,null,null,null,null,null,null,null,null,null,null,null,null,"（受付印）"]
[]
[null,null,null,null,null,null,null,null,null,null,null,null,null,null,null,null,null,null,null,null,null,null,null,{"$f":"IF('入力フォーム '!C16=\"\",\"\",'入力フォーム '!C16)","v":""},null,"年",{"$f":"IF('入力フォーム '!E16=\"\",\"\",'入力フォーム '!E16)","v":""},null,"月",{"$f":"IF('入力フォーム '!G16=\"\",\"\",'入力フォーム '!G16)","v":""},null,"日",null,"提出"]
[null,null,null,null,null,null,null,null,null,null,null,"　",null,null,null,null,null,null,"住　所",null,null,null,{"$f":"L36","v":""}]
[null,null,null,null,null,null,null,null,null,null,null,"　",null,null,null,null,null,null,"名　称",null,null,null,{"$f":"L39","v":""}]
[null,null,null,null,null,null,null,null,null,null,null,null,null,null,null,null,null,null,null,"地方税法第５０条の５及び第３２８条の５第２項の規定により、下記のとおり分離課税に係る所得割の納入について申告します。"]
[null,null,null,null,null,null,null,null,null,null,null,null,null,null,null,null,null,null,null,null,null,{"$f":"IF(H14=\"\",\"\",H14)","v":""},null,null,"年",null,{"$f":"IF(M14=\"\",\"\",M14)","v":""},null,null,"月分",null,null,null,"人員",null,null,{"$f":"IF('入力フォーム '!C17=\"\",\"\",'入力フォーム '!C17)","v":""},null,null,null,null,null,null,null,null,"人"]
[]
[null,null,null,null,null,null,null,null,null,null,null,null,null,null,null,null,null,null,"支　払　金　額",null,null,null,null,null,null,null,null,null,null,{"$f":"IF('入力フォーム '!C18=\"\",\"\",'入力フォーム '!C18)","v":""},null,null,null,null,null,null,null,null,null,null,null,null,null,null,null,"円"]
[null,null,null,null,null,null,null,null,null,null,null,null,null,null,null,null,null,null,"特別徴収",null,null,null,null,null,"市民税",null,null,null,null,{"$f":"IF('入力フォーム '!D19=\"\",\"\",'入力フォーム '!D19)","v":""},null,null,null,null,null,null,null,null,null,null,null,null,null,null,null,"円"]
[]
[null,null,null,null,null,null,null,null,null,null,null,null,null,null,null,null,null,null,"税　　　額",null,null,null,null,null,"県民税",null,null,null,null,{"$f":"IF('入力フォーム '!D20=\"\",\"\",'入力フォーム '!D20)","v":""},null,null,null,null,null,null,null,null,null,null,null,null,null,null,null,"円"]
[]
[null,null,null,null,null,null,null,null,null,null,null,null,null,null,null,null,null,null,"内　訳"]
[null,null,null,null,null,null,null,null,null,null,null,null,null,null,null,null,null,null,"１月１日の住所",null,null,null,null,null,null,null,{"$f":"IF('入力フォーム '!$C$22=\"\",\"\",'入力フォーム '!$C$22)","v":""}]
[null,null,null,null,null,null,null,null,null,null,null,"　",null,null,null,null,null,null,"氏　　　　　　名",null,null,null,null,null,null,null,{"$f":"IF('入力フォーム '!$C$23=\"\",\"\",'入力フォーム '!$C$23)","v":""}]
[null,null,null,null,null,null,null,null,null,null,null,null,null,null,null,null,null,null,"勤　続　年　数",null,null,null,null,null,null,null,{"$f":"IF('入力フォーム '!$C$24=\"\",\"\",'入力フォーム '!$C$24)","v":""},null,null,null,"年","支払金額",null,null,null,null,{"$f":"IF('入力フォーム '!$C$25=\"\",\"\",'入力フォーム '!$C$25)","v":""},null,null,null,null,null,null,null,null,"円"]
[null,null,null,null,null,null,null,null,null,null,null,null,null,null,null,null,null,null,"特別徴収税額",null,null,null,null,null,null,null,"市民税",null,null,{"$f":"IF('入力フォーム '!$D$26=\"\",\"\",'入力フォーム '!$D$26)","v":""},null,null,null,null,null,"円","県民税",null,null,{"$f":"IF('入力フォーム '!$D$27=\"\",\"\",'入力フォーム '!$D$27)","v":""},null,null,null,null,null,"円"]
[null,null,null,null,null,null,null,null,null,null,null,null,null,null,null,null,null,null,"１月１日の住所",null,null,null,null,null,null,null,{"$f":"IF('入力フォーム '!$C$29=\"\",\"\",'入力フォーム '!$C$29)","v":""}]
[null,null,null,null,null,null,null,null,null,null,null,null,null,null,null,null,null,null,"氏　　　　　　名",null,null,null,null,null,null,null,{"$f":"IF('入力フォーム '!$C$30=\"\",\"\",'入力フォーム '!$C$30)","v":""}]
[null,null,null,null,null,null,null,null,null,null,null,null,null,null,null,null,null,null,"勤　続　年　数",null,null,null,null,null,null,null,{"$f":"IF('入力フォーム '!$C$31=\"\",\"\",'入力フォーム '!$C$31)","v":""},null,null,null,"年","支払金額",null,null,null,null,{"$f":"IF('入力フォーム '!$C$32=\"\",\"\",'入力フォーム '!$C$32)","v":""},null,null,null,null,null,null,null,null,"円"]
[null,null,null,null,null,null,null,null,null,null,null,null,null,null,null,null,null,null,"特別徴収税額",null,null,null,null,null,null,null,"市民税",null,null,{"$f":"IF('入力フォーム '!$D$33=\"\",\"\",'入力フォーム '!$D$33)","v":""},null,null,null,null,null,"円","県民税",null,null,{"$f":"IF('入力フォーム '!$D$34=\"\",\"\",'入力フォーム '!$D$34)","v":""},null,null,null,null,null,"円"]
[null,null,null,null,null,null,null,null,null,null,null,null,null,null,null,null,null,null,"１月１日の住所",null,null,null,null,null,null,null,{"$f":"IF('入力フォーム '!$C$36=\"\",\"\",'入力フォーム '!$C$36)","v":""}]
[null,null,null,null,null,null,null,null,null,null,null,null,null,null,null,null,null,null,"氏　　　　　　名",null,null,null,null,null,null,null,{"$f":"IF('入力フォーム '!$C$37=\"\",\"\",'入力フォーム '!$C$37)","v":""}]
[null,null,null,null,null,null,null,null,null,null,null,null,null,null,null,null,null,null,"勤　続　年　数",null,null,null,null,null,null,null,{"$f":"IF('入力フォーム '!$C$38=\"\",\"\",'入力フォーム '!$C$38)","v":""},null,null,null,"年","支払金額",null,null,null,null,{"$f":"IF('入力フォーム '!$C$39=\"\",\"\",'入力フォーム '!$C$39)","v":""},null,null,null,null,null,null,null,null,"円"]
[null,null,null,null,null,null,null,null,null,null,null,null,null,null,null,null,null,null,"特別徴収税額",null,null,null,null,null,null,null,"市民税",null,null,{"$f":"IF('入力フォーム '!$D$40=\"\",\"\",'入力フォーム '!$D$40)","v":""},null,null,null,null,null,"円","県民税",null,null,{"$f":"IF('入力フォーム '!$D$41=\"\",\"\",'入力フォーム '!$D$41)","v":""},null,null,null,null,null,"円"]
[null,null,null,null,null,null,null,null,null,null,null,null,null,null,null,null,null,null,"１月１日の住所",null,null,null,null,null,null,null,{"$f":"IF('入力フォーム '!$C$43=\"\",\"\",'入力フォーム '!$C$43)","v":""}]
[null,null,null,null,null,null,null,null,null,null,null,null,null,null,null,null,null,null,"氏　　　　　　名",null,null,null,null,null,null,null,{"$f":"IF('入力フォーム '!$C$44=\"\",\"\",'入力フォーム '!$C$44)","v":""}]
[null,null,null,null,null,null,null,null,null,null,null,null,null,null,null,null,null,null,"勤　続　年　数",null,null,null,null,null,null,null,{"$f":"IF('入力フォーム '!$C$45=\"\",\"\",'入力フォーム '!$C$45)","v":""},null,null,null,"年","支払金額",null,null,null,null,{"$f":"IF('入力フォーム '!$C$46=\"\",\"\",'入力フォーム '!$C$46)","v":""},null,null,null,null,null,null,null,null,"円"]
[null,null,null,null,null,null,null,null,null,null,null,null,null,null,null,null,null,null,"特別徴収税額",null,null,null,null,null,null,null,"市民税",null,null,{"$f":"IF('入力フォーム '!$D$47=\"\",\"\",'入力フォーム '!$D$47)","v":""},null,null,null,null,null,"円","県民税",null,null,{"$f":"IF('入力フォーム '!$D$48=\"\",\"\",'入力フォーム '!$D$48)","v":""},null,null,null,null,null,"円"]
[null,null,null,null,null,null,null,null,null,null,null,null,null,null,null,null,null,null,"１月１日の住所",null,null,null,null,null,null,null,{"$f":"IF('入力フォーム '!$C$50=\"\",\"\",'入力フォーム '!$C$50)","v":""}]
[null,null,null,null,null,null,null,null,null,null,null,null,null,null,null,null,null,null,"氏　　　　　　名",null,null,null,null,null,null,null,{"$f":"IF('入力フォーム '!$C$51=\"\",\"\",'入力フォーム '!$C$51)","v":""}]
[null,null,null,null,null,null,null,null,null,null,null,null,null,null,null,null,null,null,"勤　続　年　数",null,null,null,null,null,null,null,{"$f":"IF('入力フォーム '!$C$52=\"\",\"\",'入力フォーム '!$C$52)","v":""},null,null,null,"年","支払金額",null,null,null,null,{"$f":"IF('入力フォーム '!$C$53=\"\",\"\",'入力フォーム '!$C$53)","v":""},null,null,null,null,null,null,null,null,"円"]
[null,null,null,null,null,null,null,null,null,null,null,null,null,null,null,null,null,null,"特別徴収税額",null,null,null,null,null,null,null,"市民税",null,null,{"$f":"IF('入力フォーム '!$D$54=\"\",\"\",'入力フォーム '!$D$54)","v":""},null,null,null,null,null,"円","県民税",null,null,{"$f":"IF('入力フォーム '!$D$55=\"\",\"\",'入力フォーム '!$D$55)","v":""},null,null,null,null,null,"円"]